BEGIN:VCALENDAR
VERSION:2.0
PRODID:https://www.kufer.de/kuferweb / DE
METHOD:PUBLISH
CALSCALE:GREGORIAN
X-WR-TIMEZONE:Europe/Berlin
BEGIN:VTIMEZONE
TZID:Europe/Berlin
X-LIC-LOCATION:Europe/Berlin
BEGIN:DAYLIGHT
TZOFFSETFROM:+0100
TZOFFSETTO:+0200
TZNAME:CEST
DTSTART:19700329T020000
RRULE:FREQ=YEARLY;INTERVAL=1;BYDAY=-1SU;BYMONTH=3
END:DAYLIGHT
BEGIN:STANDARD
TZOFFSETFROM:+0200
TZOFFSETTO:+0100
TZNAME:CET
DTSTART:19701025T030000
RRULE:FREQ=YEARLY;INTERVAL=1;BYDAY=-1SU;BYMONTH=10
END:STANDARD
END:VTIMEZONE
BEGIN:VEVENT
DTSTAMP:20260421T103212
DTSTART;TZID=Europe/Berlin:20260617T180000
DTEND;TZID=Europe/Berlin:20260617T211500
UID:26-2911-20260617T180000@INLINGUA SPRACHCENTER ULM
SUMMARY:Integrationskurs 210 - Modul 2 (26-2911) 
LOCATION:iMM R5, Hemmerlestr. 4, 87700 Memmingen
END:VEVENT
BEGIN:VEVENT
DTSTAMP:20260421T103212
DTSTART;TZID=Europe/Berlin:20260619T180000
DTEND;TZID=Europe/Berlin:20260619T211500
UID:26-2911-20260619T180000@INLINGUA SPRACHCENTER ULM
SUMMARY:Integrationskurs 210 - Modul 2 (26-2911) 
LOCATION:iMM R5, Hemmerlestr. 4, 87700 Memmingen
END:VEVENT
BEGIN:VEVENT
DTSTAMP:20260421T103212
DTSTART;TZID=Europe/Berlin:20260623T180000
DTEND;TZID=Europe/Berlin:20260623T211500
UID:26-2911-20260623T180000@INLINGUA SPRACHCENTER ULM
SUMMARY:Integrationskurs 210 - Modul 2 (26-2911) 
LOCATION:iMM R5, Hemmerlestr. 4, 87700 Memmingen
END:VEVENT
BEGIN:VEVENT
DTSTAMP:20260421T103212
DTSTART;TZID=Europe/Berlin:20260624T180000
DTEND;TZID=Europe/Berlin:20260624T211500
UID:26-2911-20260624T180000@INLINGUA SPRACHCENTER ULM
SUMMARY:Integrationskurs 210 - Modul 2 (26-2911) 
LOCATION:iMM R5, Hemmerlestr. 4, 87700 Memmingen
END:VEVENT
BEGIN:VEVENT
DTSTAMP:20260421T103212
DTSTART;TZID=Europe/Berlin:20260626T180000
DTEND;TZID=Europe/Berlin:20260626T211500
UID:26-2911-20260626T180000@INLINGUA SPRACHCENTER ULM
SUMMARY:Integrationskurs 210 - Modul 2 (26-2911) 
LOCATION:iMM R5, Hemmerlestr. 4, 87700 Memmingen
END:VEVENT
BEGIN:VEVENT
DTSTAMP:20260421T103212
DTSTART;TZID=Europe/Berlin:20260630T180000
DTEND;TZID=Europe/Berlin:20260630T211500
UID:26-2911-20260630T180000@INLINGUA SPRACHCENTER ULM
SUMMARY:Integrationskurs 210 - Modul 2 (26-2911) 
LOCATION:iMM R5, Hemmerlestr. 4, 87700 Memmingen
END:VEVENT
BEGIN:VEVENT
DTSTAMP:20260421T103212
DTSTART;TZID=Europe/Berlin:20260701T180000
DTEND;TZID=Europe/Berlin:20260701T211500
UID:26-2911-20260701T180000@INLINGUA SPRACHCENTER ULM
SUMMARY:Integrationskurs 210 - Modul 2 (26-2911) 
LOCATION:iMM R5, Hemmerlestr. 4, 87700 Memmingen
END:VEVENT
BEGIN:VEVENT
DTSTAMP:20260421T103212
DTSTART;TZID=Europe/Berlin:20260703T180000
DTEND;TZID=Europe/Berlin:20260703T211500
UID:26-2911-20260703T180000@INLINGUA SPRACHCENTER ULM
SUMMARY:Integrationskurs 210 - Modul 2 (26-2911) 
LOCATION:iMM R5, Hemmerlestr. 4, 87700 Memmingen
END:VEVENT
BEGIN:VEVENT
DTSTAMP:20260421T103212
DTSTART;TZID=Europe/Berlin:20260707T180000
DTEND;TZID=Europe/Berlin:20260707T211500
UID:26-2911-20260707T180000@INLINGUA SPRACHCENTER ULM
SUMMARY:Integrationskurs 210 - Modul 2 (26-2911) 
LOCATION:iMM R5, Hemmerlestr. 4, 87700 Memmingen
END:VEVENT
BEGIN:VEVENT
DTSTAMP:20260421T103212
DTSTART;TZID=Europe/Berlin:20260708T180000
DTEND;TZID=Europe/Berlin:20260708T211500
UID:26-2911-20260708T180000@INLINGUA SPRACHCENTER ULM
SUMMARY:Integrationskurs 210 - Modul 2 (26-2911) 
LOCATION:iMM R5, Hemmerlestr. 4, 87700 Memmingen
END:VEVENT
BEGIN:VEVENT
DTSTAMP:20260421T103212
DTSTART;TZID=Europe/Berlin:20260710T180000
DTEND;TZID=Europe/Berlin:20260710T211500
UID:26-2911-20260710T180000@INLINGUA SPRACHCENTER ULM
SUMMARY:Integrationskurs 210 - Modul 2 (26-2911) 
LOCATION:iMM R5, Hemmerlestr. 4, 87700 Memmingen
END:VEVENT
BEGIN:VEVENT
DTSTAMP:20260421T103212
DTSTART;TZID=Europe/Berlin:20260714T180000
DTEND;TZID=Europe/Berlin:20260714T211500
UID:26-2911-20260714T180000@INLINGUA SPRACHCENTER ULM
SUMMARY:Integrationskurs 210 - Modul 2 (26-2911) 
LOCATION:iMM R5, Hemmerlestr. 4, 87700 Memmingen
END:VEVENT
BEGIN:VEVENT
DTSTAMP:20260421T103212
DTSTART;TZID=Europe/Berlin:20260715T180000
DTEND;TZID=Europe/Berlin:20260715T211500
UID:26-2911-20260715T180000@INLINGUA SPRACHCENTER ULM
SUMMARY:Integrationskurs 210 - Modul 2 (26-2911) 
LOCATION:iMM R5, Hemmerlestr. 4, 87700 Memmingen
END:VEVENT
BEGIN:VEVENT
DTSTAMP:20260421T103212
DTSTART;TZID=Europe/Berlin:20260717T180000
DTEND;TZID=Europe/Berlin:20260717T211500
UID:26-2911-20260717T180000@INLINGUA SPRACHCENTER ULM
SUMMARY:Integrationskurs 210 - Modul 2 (26-2911) 
LOCATION:iMM R5, Hemmerlestr. 4, 87700 Memmingen
END:VEVENT
BEGIN:VEVENT
DTSTAMP:20260421T103212
DTSTART;TZID=Europe/Berlin:20260721T180000
DTEND;TZID=Europe/Berlin:20260721T211500
UID:26-2911-20260721T180000@INLINGUA SPRACHCENTER ULM
SUMMARY:Integrationskurs 210 - Modul 2 (26-2911) 
LOCATION:iMM R5, Hemmerlestr. 4, 87700 Memmingen
END:VEVENT
BEGIN:VEVENT
DTSTAMP:20260421T103212
DTSTART;TZID=Europe/Berlin:20260722T180000
DTEND;TZID=Europe/Berlin:20260722T211500
UID:26-2911-20260722T180000@INLINGUA SPRACHCENTER ULM
SUMMARY:Integrationskurs 210 - Modul 2 (26-2911) 
LOCATION:iMM R5, Hemmerlestr. 4, 87700 Memmingen
END:VEVENT
BEGIN:VEVENT
DTSTAMP:20260421T103212
DTSTART;TZID=Europe/Berlin:20260724T180000
DTEND;TZID=Europe/Berlin:20260724T211500
UID:26-2911-20260724T180000@INLINGUA SPRACHCENTER ULM
SUMMARY:Integrationskurs 210 - Modul 2 (26-2911) 
LOCATION:iMM R5, Hemmerlestr. 4, 87700 Memmingen
END:VEVENT
BEGIN:VEVENT
DTSTAMP:20260421T103212
DTSTART;TZID=Europe/Berlin:20260728T180000
DTEND;TZID=Europe/Berlin:20260728T211500
UID:26-2911-20260728T180000@INLINGUA SPRACHCENTER ULM
SUMMARY:Integrationskurs 210 - Modul 2 (26-2911) 
LOCATION:iMM R5, Hemmerlestr. 4, 87700 Memmingen
END:VEVENT
BEGIN:VEVENT
DTSTAMP:20260421T103212
DTSTART;TZID=Europe/Berlin:20260729T180000
DTEND;TZID=Europe/Berlin:20260729T211500
UID:26-2911-20260729T180000@INLINGUA SPRACHCENTER ULM
SUMMARY:Integrationskurs 210 - Modul 2 (26-2911) 
LOCATION:iMM R5, Hemmerlestr. 4, 87700 Memmingen
END:VEVENT
BEGIN:VEVENT
DTSTAMP:20260421T103212
DTSTART;TZID=Europe/Berlin:20260731T180000
DTEND;TZID=Europe/Berlin:20260731T211500
UID:26-2911-20260731T180000@INLINGUA SPRACHCENTER ULM
SUMMARY:Integrationskurs 210 - Modul 2 (26-2911) 
LOCATION:iMM R5, Hemmerlestr. 4, 87700 Memmingen
END:VEVENT
BEGIN:VEVENT
DTSTAMP:20260421T103212
DTSTART;TZID=Europe/Berlin:20260901T180000
DTEND;TZID=Europe/Berlin:20260901T211500
UID:26-2911-20260901T180000@INLINGUA SPRACHCENTER ULM
SUMMARY:Integrationskurs 210 - Modul 2 (26-2911) 
LOCATION:iMM R5, Hemmerlestr. 4, 87700 Memmingen
END:VEVENT
BEGIN:VEVENT
DTSTAMP:20260421T103212
DTSTART;TZID=Europe/Berlin:20260902T180000
DTEND;TZID=Europe/Berlin:20260902T211500
UID:26-2911-20260902T180000@INLINGUA SPRACHCENTER ULM
SUMMARY:Integrationskurs 210 - Modul 2 (26-2911) 
LOCATION:iMM R5, Hemmerlestr. 4, 87700 Memmingen
END:VEVENT
BEGIN:VEVENT
DTSTAMP:20260421T103212
DTSTART;TZID=Europe/Berlin:20260904T180000
DTEND;TZID=Europe/Berlin:20260904T211500
UID:26-2911-20260904T180000@INLINGUA SPRACHCENTER ULM
SUMMARY:Integrationskurs 210 - Modul 2 (26-2911) 
LOCATION:iMM R5, Hemmerlestr. 4, 87700 Memmingen
END:VEVENT
BEGIN:VEVENT
DTSTAMP:20260421T103212
DTSTART;TZID=Europe/Berlin:20260908T180000
DTEND;TZID=Europe/Berlin:20260908T211500
UID:26-2911-20260908T180000@INLINGUA SPRACHCENTER ULM
SUMMARY:Integrationskurs 210 - Modul 2 (26-2911) 
LOCATION:iMM R5, Hemmerlestr. 4, 87700 Memmingen
END:VEVENT
BEGIN:VEVENT
DTSTAMP:20260421T103212
DTSTART;TZID=Europe/Berlin:20260909T180000
DTEND;TZID=Europe/Berlin:20260909T211500
UID:26-2911-20260909T180000@INLINGUA SPRACHCENTER ULM
SUMMARY:Integrationskurs 210 - Modul 2 (26-2911) 
LOCATION:iMM R5, Hemmerlestr. 4, 87700 Memmingen
END:VEVENT
END:VCALENDAR