BEGIN:VCALENDAR
VERSION:2.0
PRODID:https://www.kufer.de/kuferweb / DE
METHOD:PUBLISH
CALSCALE:GREGORIAN
X-WR-TIMEZONE:Europe/Berlin
BEGIN:VTIMEZONE
TZID:Europe/Berlin
X-LIC-LOCATION:Europe/Berlin
BEGIN:DAYLIGHT
TZOFFSETFROM:+0100
TZOFFSETTO:+0200
TZNAME:CEST
DTSTART:19700329T020000
RRULE:FREQ=YEARLY;INTERVAL=1;BYDAY=-1SU;BYMONTH=3
END:DAYLIGHT
BEGIN:STANDARD
TZOFFSETFROM:+0200
TZOFFSETTO:+0100
TZNAME:CET
DTSTART:19701025T030000
RRULE:FREQ=YEARLY;INTERVAL=1;BYDAY=-1SU;BYMONTH=10
END:STANDARD
END:VTIMEZONE
BEGIN:VEVENT
DTSTAMP:20260421T102448
DTSTART;TZID=Europe/Berlin:20261221T180000
DTEND;TZID=Europe/Berlin:20261221T211500
UID:25-2607-20261221T180000@INLINGUA SPRACHCENTER ULM
SUMMARY:Orientierungskurs IK195 (25-2607) 
LOCATION:iMM R5, Hemmerlestr. 4, 87700 Memmingen
END:VEVENT
BEGIN:VEVENT
DTSTAMP:20260421T102448
DTSTART;TZID=Europe/Berlin:20261222T180000
DTEND;TZID=Europe/Berlin:20261222T211500
UID:25-2607-20261222T180000@INLINGUA SPRACHCENTER ULM
SUMMARY:Orientierungskurs IK195 (25-2607) 
LOCATION:iMM R5, Hemmerlestr. 4, 87700 Memmingen
END:VEVENT
BEGIN:VEVENT
DTSTAMP:20260421T102448
DTSTART;TZID=Europe/Berlin:20270107T180000
DTEND;TZID=Europe/Berlin:20270107T211500
UID:25-2607-20270107T180000@INLINGUA SPRACHCENTER ULM
SUMMARY:Orientierungskurs IK195 (25-2607) 
LOCATION:iMM R5, Hemmerlestr. 4, 87700 Memmingen
END:VEVENT
BEGIN:VEVENT
DTSTAMP:20260421T102448
DTSTART;TZID=Europe/Berlin:20270111T180000
DTEND;TZID=Europe/Berlin:20270111T211500
UID:25-2607-20270111T180000@INLINGUA SPRACHCENTER ULM
SUMMARY:Orientierungskurs IK195 (25-2607) 
LOCATION:iMM R5, Hemmerlestr. 4, 87700 Memmingen
END:VEVENT
BEGIN:VEVENT
DTSTAMP:20260421T102448
DTSTART;TZID=Europe/Berlin:20270112T180000
DTEND;TZID=Europe/Berlin:20270112T211500
UID:25-2607-20270112T180000@INLINGUA SPRACHCENTER ULM
SUMMARY:Orientierungskurs IK195 (25-2607) 
LOCATION:iMM R5, Hemmerlestr. 4, 87700 Memmingen
END:VEVENT
BEGIN:VEVENT
DTSTAMP:20260421T102448
DTSTART;TZID=Europe/Berlin:20270114T180000
DTEND;TZID=Europe/Berlin:20270114T211500
UID:25-2607-20270114T180000@INLINGUA SPRACHCENTER ULM
SUMMARY:Orientierungskurs IK195 (25-2607) 
LOCATION:iMM R5, Hemmerlestr. 4, 87700 Memmingen
END:VEVENT
BEGIN:VEVENT
DTSTAMP:20260421T102448
DTSTART;TZID=Europe/Berlin:20270118T180000
DTEND;TZID=Europe/Berlin:20270118T211500
UID:25-2607-20270118T180000@INLINGUA SPRACHCENTER ULM
SUMMARY:Orientierungskurs IK195 (25-2607) 
LOCATION:iMM R5, Hemmerlestr. 4, 87700 Memmingen
END:VEVENT
BEGIN:VEVENT
DTSTAMP:20260421T102448
DTSTART;TZID=Europe/Berlin:20270119T180000
DTEND;TZID=Europe/Berlin:20270119T211500
UID:25-2607-20270119T180000@INLINGUA SPRACHCENTER ULM
SUMMARY:Orientierungskurs IK195 (25-2607) 
LOCATION:iMM R5, Hemmerlestr. 4, 87700 Memmingen
END:VEVENT
BEGIN:VEVENT
DTSTAMP:20260421T102448
DTSTART;TZID=Europe/Berlin:20270121T180000
DTEND;TZID=Europe/Berlin:20270121T211500
UID:25-2607-20270121T180000@INLINGUA SPRACHCENTER ULM
SUMMARY:Orientierungskurs IK195 (25-2607) 
LOCATION:iMM R5, Hemmerlestr. 4, 87700 Memmingen
END:VEVENT
BEGIN:VEVENT
DTSTAMP:20260421T102448
DTSTART;TZID=Europe/Berlin:20270125T180000
DTEND;TZID=Europe/Berlin:20270125T211500
UID:25-2607-20270125T180000@INLINGUA SPRACHCENTER ULM
SUMMARY:Orientierungskurs IK195 (25-2607) 
LOCATION:iMM R5, Hemmerlestr. 4, 87700 Memmingen
END:VEVENT
BEGIN:VEVENT
DTSTAMP:20260421T102448
DTSTART;TZID=Europe/Berlin:20270126T180000
DTEND;TZID=Europe/Berlin:20270126T211500
UID:25-2607-20270126T180000@INLINGUA SPRACHCENTER ULM
SUMMARY:Orientierungskurs IK195 (25-2607) 
LOCATION:iMM R5, Hemmerlestr. 4, 87700 Memmingen
END:VEVENT
BEGIN:VEVENT
DTSTAMP:20260421T102448
DTSTART;TZID=Europe/Berlin:20270128T180000
DTEND;TZID=Europe/Berlin:20270128T211500
UID:25-2607-20270128T180000@INLINGUA SPRACHCENTER ULM
SUMMARY:Orientierungskurs IK195 (25-2607) 
LOCATION:iMM R5, Hemmerlestr. 4, 87700 Memmingen
END:VEVENT
BEGIN:VEVENT
DTSTAMP:20260421T102448
DTSTART;TZID=Europe/Berlin:20270201T180000
DTEND;TZID=Europe/Berlin:20270201T211500
UID:25-2607-20270201T180000@INLINGUA SPRACHCENTER ULM
SUMMARY:Orientierungskurs IK195 (25-2607) 
LOCATION:iMM R5, Hemmerlestr. 4, 87700 Memmingen
END:VEVENT
BEGIN:VEVENT
DTSTAMP:20260421T102448
DTSTART;TZID=Europe/Berlin:20270202T180000
DTEND;TZID=Europe/Berlin:20270202T211500
UID:25-2607-20270202T180000@INLINGUA SPRACHCENTER ULM
SUMMARY:Orientierungskurs IK195 (25-2607) 
LOCATION:iMM R5, Hemmerlestr. 4, 87700 Memmingen
END:VEVENT
BEGIN:VEVENT
DTSTAMP:20260421T102448
DTSTART;TZID=Europe/Berlin:20270204T180000
DTEND;TZID=Europe/Berlin:20270204T211500
UID:25-2607-20270204T180000@INLINGUA SPRACHCENTER ULM
SUMMARY:Orientierungskurs IK195 (25-2607) 
LOCATION:iMM R5, Hemmerlestr. 4, 87700 Memmingen
END:VEVENT
BEGIN:VEVENT
DTSTAMP:20260421T102448
DTSTART;TZID=Europe/Berlin:20270208T180000
DTEND;TZID=Europe/Berlin:20270208T211500
UID:25-2607-20270208T180000@INLINGUA SPRACHCENTER ULM
SUMMARY:Orientierungskurs IK195 (25-2607) 
LOCATION:iMM R5, Hemmerlestr. 4, 87700 Memmingen
END:VEVENT
BEGIN:VEVENT
DTSTAMP:20260421T102448
DTSTART;TZID=Europe/Berlin:20270209T180000
DTEND;TZID=Europe/Berlin:20270209T211500
UID:25-2607-20270209T180000@INLINGUA SPRACHCENTER ULM
SUMMARY:Orientierungskurs IK195 (25-2607) 
LOCATION:iMM R5, Hemmerlestr. 4, 87700 Memmingen
END:VEVENT
BEGIN:VEVENT
DTSTAMP:20260421T102448
DTSTART;TZID=Europe/Berlin:20270211T180000
DTEND;TZID=Europe/Berlin:20270211T211500
UID:25-2607-20270211T180000@INLINGUA SPRACHCENTER ULM
SUMMARY:Orientierungskurs IK195 (25-2607) 
LOCATION:iMM R5, Hemmerlestr. 4, 87700 Memmingen
END:VEVENT
BEGIN:VEVENT
DTSTAMP:20260421T102448
DTSTART;TZID=Europe/Berlin:20270215T180000
DTEND;TZID=Europe/Berlin:20270215T211500
UID:25-2607-20270215T180000@INLINGUA SPRACHCENTER ULM
SUMMARY:Orientierungskurs IK195 (25-2607) 
LOCATION:iMM R5, Hemmerlestr. 4, 87700 Memmingen
END:VEVENT
BEGIN:VEVENT
DTSTAMP:20260421T102448
DTSTART;TZID=Europe/Berlin:20270216T180000
DTEND;TZID=Europe/Berlin:20270216T211500
UID:25-2607-20270216T180000@INLINGUA SPRACHCENTER ULM
SUMMARY:Orientierungskurs IK195 (25-2607) 
LOCATION:iMM R5, Hemmerlestr. 4, 87700 Memmingen
END:VEVENT
BEGIN:VEVENT
DTSTAMP:20260421T102448
DTSTART;TZID=Europe/Berlin:20270218T180000
DTEND;TZID=Europe/Berlin:20270218T211500
UID:25-2607-20270218T180000@INLINGUA SPRACHCENTER ULM
SUMMARY:Orientierungskurs IK195 (25-2607) 
LOCATION:iMM R5, Hemmerlestr. 4, 87700 Memmingen
END:VEVENT
BEGIN:VEVENT
DTSTAMP:20260421T102448
DTSTART;TZID=Europe/Berlin:20270222T180000
DTEND;TZID=Europe/Berlin:20270222T211500
UID:25-2607-20270222T180000@INLINGUA SPRACHCENTER ULM
SUMMARY:Orientierungskurs IK195 (25-2607) 
LOCATION:iMM R5, Hemmerlestr. 4, 87700 Memmingen
END:VEVENT
BEGIN:VEVENT
DTSTAMP:20260421T102448
DTSTART;TZID=Europe/Berlin:20270223T180000
DTEND;TZID=Europe/Berlin:20270223T211500
UID:25-2607-20270223T180000@INLINGUA SPRACHCENTER ULM
SUMMARY:Orientierungskurs IK195 (25-2607) 
LOCATION:iMM R5, Hemmerlestr. 4, 87700 Memmingen
END:VEVENT
BEGIN:VEVENT
DTSTAMP:20260421T102448
DTSTART;TZID=Europe/Berlin:20270225T180000
DTEND;TZID=Europe/Berlin:20270225T211500
UID:25-2607-20270225T180000@INLINGUA SPRACHCENTER ULM
SUMMARY:Orientierungskurs IK195 (25-2607) 
LOCATION:iMM R5, Hemmerlestr. 4, 87700 Memmingen
END:VEVENT
BEGIN:VEVENT
DTSTAMP:20260421T102448
DTSTART;TZID=Europe/Berlin:20270301T180000
DTEND;TZID=Europe/Berlin:20270301T211500
UID:25-2607-20270301T180000@INLINGUA SPRACHCENTER ULM
SUMMARY:Orientierungskurs IK195 (25-2607) 
LOCATION:iMM R5, Hemmerlestr. 4, 87700 Memmingen
END:VEVENT
END:VCALENDAR