BEGIN:VCALENDAR
VERSION:2.0
PRODID:https://www.kufer.de/kuferweb / DE
METHOD:PUBLISH
CALSCALE:GREGORIAN
X-WR-TIMEZONE:Europe/Berlin
BEGIN:VTIMEZONE
TZID:Europe/Berlin
X-LIC-LOCATION:Europe/Berlin
BEGIN:DAYLIGHT
TZOFFSETFROM:+0100
TZOFFSETTO:+0200
TZNAME:CEST
DTSTART:19700329T020000
RRULE:FREQ=YEARLY;INTERVAL=1;BYDAY=-1SU;BYMONTH=3
END:DAYLIGHT
BEGIN:STANDARD
TZOFFSETFROM:+0200
TZOFFSETTO:+0100
TZNAME:CET
DTSTART:19701025T030000
RRULE:FREQ=YEARLY;INTERVAL=1;BYDAY=-1SU;BYMONTH=10
END:STANDARD
END:VTIMEZONE
BEGIN:VEVENT
DTSTAMP:20260421T103359
DTSTART;TZID=Europe/Berlin:20260416T131500
DTEND;TZID=Europe/Berlin:20260416T173000
UID:25-2367-20260416T131500@INLINGUA SPRACHCENTER ULM
SUMMARY:Integrationskurs 190 - Modul 6 (25-2367) 
LOCATION:inlingua Ulm Raum 6, Bahnhofstr. 17, 89073 Ulm
END:VEVENT
BEGIN:VEVENT
DTSTAMP:20260421T103359
DTSTART;TZID=Europe/Berlin:20260420T131500
DTEND;TZID=Europe/Berlin:20260420T173000
UID:25-2367-20260420T131500@INLINGUA SPRACHCENTER ULM
SUMMARY:Integrationskurs 190 - Modul 6 (25-2367) 
LOCATION:inlingua Ulm Raum 6, Bahnhofstr. 17, 89073 Ulm
END:VEVENT
BEGIN:VEVENT
DTSTAMP:20260421T103359
DTSTART;TZID=Europe/Berlin:20260421T131500
DTEND;TZID=Europe/Berlin:20260421T173000
UID:25-2367-20260421T131500@INLINGUA SPRACHCENTER ULM
SUMMARY:Integrationskurs 190 - Modul 6 (25-2367) 
LOCATION:inlingua Ulm Raum 6, Bahnhofstr. 17, 89073 Ulm
END:VEVENT
BEGIN:VEVENT
DTSTAMP:20260421T103359
DTSTART;TZID=Europe/Berlin:20260422T131500
DTEND;TZID=Europe/Berlin:20260422T173000
UID:25-2367-20260422T131500@INLINGUA SPRACHCENTER ULM
SUMMARY:Integrationskurs 190 - Modul 6 (25-2367) 
LOCATION:inlingua Ulm Raum 6, Bahnhofstr. 17, 89073 Ulm
END:VEVENT
BEGIN:VEVENT
DTSTAMP:20260421T103359
DTSTART;TZID=Europe/Berlin:20260423T131500
DTEND;TZID=Europe/Berlin:20260423T173000
UID:25-2367-20260423T131500@INLINGUA SPRACHCENTER ULM
SUMMARY:Integrationskurs 190 - Modul 6 (25-2367) 
LOCATION:inlingua Ulm Raum 6, Bahnhofstr. 17, 89073 Ulm
END:VEVENT
BEGIN:VEVENT
DTSTAMP:20260421T103359
DTSTART;TZID=Europe/Berlin:20260427T131500
DTEND;TZID=Europe/Berlin:20260427T173000
UID:25-2367-20260427T131500@INLINGUA SPRACHCENTER ULM
SUMMARY:Integrationskurs 190 - Modul 6 (25-2367) 
LOCATION:inlingua Ulm Raum 6, Bahnhofstr. 17, 89073 Ulm
END:VEVENT
BEGIN:VEVENT
DTSTAMP:20260421T103359
DTSTART;TZID=Europe/Berlin:20260428T131500
DTEND;TZID=Europe/Berlin:20260428T173000
UID:25-2367-20260428T131500@INLINGUA SPRACHCENTER ULM
SUMMARY:Integrationskurs 190 - Modul 6 (25-2367) 
LOCATION:inlingua Ulm Raum 6, Bahnhofstr. 17, 89073 Ulm
END:VEVENT
BEGIN:VEVENT
DTSTAMP:20260421T103359
DTSTART;TZID=Europe/Berlin:20260429T131500
DTEND;TZID=Europe/Berlin:20260429T173000
UID:25-2367-20260429T131500@INLINGUA SPRACHCENTER ULM
SUMMARY:Integrationskurs 190 - Modul 6 (25-2367) 
LOCATION:inlingua Ulm Raum 6, Bahnhofstr. 17, 89073 Ulm
END:VEVENT
BEGIN:VEVENT
DTSTAMP:20260421T103359
DTSTART;TZID=Europe/Berlin:20260430T131500
DTEND;TZID=Europe/Berlin:20260430T173000
UID:25-2367-20260430T131500@INLINGUA SPRACHCENTER ULM
SUMMARY:Integrationskurs 190 - Modul 6 (25-2367) 
LOCATION:inlingua Ulm Raum 6, Bahnhofstr. 17, 89073 Ulm
END:VEVENT
BEGIN:VEVENT
DTSTAMP:20260421T103359
DTSTART;TZID=Europe/Berlin:20260504T131500
DTEND;TZID=Europe/Berlin:20260504T173000
UID:25-2367-20260504T131500@INLINGUA SPRACHCENTER ULM
SUMMARY:Integrationskurs 190 - Modul 6 (25-2367) 
LOCATION:inlingua Ulm Raum 6, Bahnhofstr. 17, 89073 Ulm
END:VEVENT
BEGIN:VEVENT
DTSTAMP:20260421T103359
DTSTART;TZID=Europe/Berlin:20260505T131500
DTEND;TZID=Europe/Berlin:20260505T173000
UID:25-2367-20260505T131500@INLINGUA SPRACHCENTER ULM
SUMMARY:Integrationskurs 190 - Modul 6 (25-2367) 
LOCATION:inlingua Ulm Raum 6, Bahnhofstr. 17, 89073 Ulm
END:VEVENT
BEGIN:VEVENT
DTSTAMP:20260421T103359
DTSTART;TZID=Europe/Berlin:20260506T131500
DTEND;TZID=Europe/Berlin:20260506T173000
UID:25-2367-20260506T131500@INLINGUA SPRACHCENTER ULM
SUMMARY:Integrationskurs 190 - Modul 6 (25-2367) 
LOCATION:inlingua Ulm Raum 6, Bahnhofstr. 17, 89073 Ulm
END:VEVENT
BEGIN:VEVENT
DTSTAMP:20260421T103359
DTSTART;TZID=Europe/Berlin:20260507T131500
DTEND;TZID=Europe/Berlin:20260507T173000
UID:25-2367-20260507T131500@INLINGUA SPRACHCENTER ULM
SUMMARY:Integrationskurs 190 - Modul 6 (25-2367) 
LOCATION:inlingua Ulm Raum 6, Bahnhofstr. 17, 89073 Ulm
END:VEVENT
BEGIN:VEVENT
DTSTAMP:20260421T103359
DTSTART;TZID=Europe/Berlin:20260511T131500
DTEND;TZID=Europe/Berlin:20260511T173000
UID:25-2367-20260511T131500@INLINGUA SPRACHCENTER ULM
SUMMARY:Integrationskurs 190 - Modul 6 (25-2367) 
LOCATION:inlingua Ulm Raum 6, Bahnhofstr. 17, 89073 Ulm
END:VEVENT
BEGIN:VEVENT
DTSTAMP:20260421T103359
DTSTART;TZID=Europe/Berlin:20260512T131500
DTEND;TZID=Europe/Berlin:20260512T173000
UID:25-2367-20260512T131500@INLINGUA SPRACHCENTER ULM
SUMMARY:Integrationskurs 190 - Modul 6 (25-2367) 
LOCATION:inlingua Ulm Raum 6, Bahnhofstr. 17, 89073 Ulm
END:VEVENT
BEGIN:VEVENT
DTSTAMP:20260421T103359
DTSTART;TZID=Europe/Berlin:20260513T131500
DTEND;TZID=Europe/Berlin:20260513T173000
UID:25-2367-20260513T131500@INLINGUA SPRACHCENTER ULM
SUMMARY:Integrationskurs 190 - Modul 6 (25-2367) 
LOCATION:inlingua Ulm Raum 6, Bahnhofstr. 17, 89073 Ulm
END:VEVENT
BEGIN:VEVENT
DTSTAMP:20260421T103359
DTSTART;TZID=Europe/Berlin:20260518T131500
DTEND;TZID=Europe/Berlin:20260518T173000
UID:25-2367-20260518T131500@INLINGUA SPRACHCENTER ULM
SUMMARY:Integrationskurs 190 - Modul 6 (25-2367) 
LOCATION:inlingua Ulm Raum 6, Bahnhofstr. 17, 89073 Ulm
END:VEVENT
BEGIN:VEVENT
DTSTAMP:20260421T103359
DTSTART;TZID=Europe/Berlin:20260519T131500
DTEND;TZID=Europe/Berlin:20260519T173000
UID:25-2367-20260519T131500@INLINGUA SPRACHCENTER ULM
SUMMARY:Integrationskurs 190 - Modul 6 (25-2367) 
LOCATION:inlingua Ulm Raum 6, Bahnhofstr. 17, 89073 Ulm
END:VEVENT
BEGIN:VEVENT
DTSTAMP:20260421T103359
DTSTART;TZID=Europe/Berlin:20260520T131500
DTEND;TZID=Europe/Berlin:20260520T173000
UID:25-2367-20260520T131500@INLINGUA SPRACHCENTER ULM
SUMMARY:Integrationskurs 190 - Modul 6 (25-2367) 
LOCATION:inlingua Ulm Raum 6, Bahnhofstr. 17, 89073 Ulm
END:VEVENT
BEGIN:VEVENT
DTSTAMP:20260421T103359
DTSTART;TZID=Europe/Berlin:20260521T131500
DTEND;TZID=Europe/Berlin:20260521T173000
UID:25-2367-20260521T131500@INLINGUA SPRACHCENTER ULM
SUMMARY:Integrationskurs 190 - Modul 6 (25-2367) 
LOCATION:inlingua Ulm Raum 6, Bahnhofstr. 17, 89073 Ulm
END:VEVENT
END:VCALENDAR