BEGIN:VCALENDAR
VERSION:2.0
PRODID:https://www.kufer.de/kuferweb / DE
METHOD:PUBLISH
CALSCALE:GREGORIAN
X-WR-TIMEZONE:Europe/Berlin
BEGIN:VTIMEZONE
TZID:Europe/Berlin
X-LIC-LOCATION:Europe/Berlin
BEGIN:DAYLIGHT
TZOFFSETFROM:+0100
TZOFFSETTO:+0200
TZNAME:CEST
DTSTART:19700329T020000
RRULE:FREQ=YEARLY;INTERVAL=1;BYDAY=-1SU;BYMONTH=3
END:DAYLIGHT
BEGIN:STANDARD
TZOFFSETFROM:+0200
TZOFFSETTO:+0100
TZNAME:CET
DTSTART:19701025T030000
RRULE:FREQ=YEARLY;INTERVAL=1;BYDAY=-1SU;BYMONTH=10
END:STANDARD
END:VTIMEZONE
BEGIN:VEVENT
DTSTAMP:20260421T102330
DTSTART;TZID=Europe/Berlin:20260128T183000
DTEND;TZID=Europe/Berlin:20260128T200000
UID:25-2091-20260128T183000@INLINGUA SPRACHCENTER ULM
SUMMARY:Aurich - Deutsch B1 (25-2091) 
LOCATION:inlingua Ulm Raum 1, Bahnhofstr. 17, 89073 Ulm
END:VEVENT
BEGIN:VEVENT
DTSTAMP:20260421T102330
DTSTART;TZID=Europe/Berlin:20260202T183000
DTEND;TZID=Europe/Berlin:20260202T200000
UID:25-2091-20260202T183000@INLINGUA SPRACHCENTER ULM
SUMMARY:Aurich - Deutsch B1 (25-2091) 
LOCATION:inlingua Ulm Raum 1, Bahnhofstr. 17, 89073 Ulm
END:VEVENT
BEGIN:VEVENT
DTSTAMP:20260421T102330
DTSTART;TZID=Europe/Berlin:20260204T183000
DTEND;TZID=Europe/Berlin:20260204T200000
UID:25-2091-20260204T183000@INLINGUA SPRACHCENTER ULM
SUMMARY:Aurich - Deutsch B1 (25-2091) 
LOCATION:inlingua Ulm Raum 1, Bahnhofstr. 17, 89073 Ulm
END:VEVENT
BEGIN:VEVENT
DTSTAMP:20260421T102330
DTSTART;TZID=Europe/Berlin:20260209T183000
DTEND;TZID=Europe/Berlin:20260209T200000
UID:25-2091-20260209T183000@INLINGUA SPRACHCENTER ULM
SUMMARY:Aurich - Deutsch B1 (25-2091) 
LOCATION:inlingua Ulm Raum 1, Bahnhofstr. 17, 89073 Ulm
END:VEVENT
BEGIN:VEVENT
DTSTAMP:20260421T102330
DTSTART;TZID=Europe/Berlin:20260211T183000
DTEND;TZID=Europe/Berlin:20260211T200000
UID:25-2091-20260211T183000@INLINGUA SPRACHCENTER ULM
SUMMARY:Aurich - Deutsch B1 (25-2091) 
LOCATION:inlingua Ulm Raum 1, Bahnhofstr. 17, 89073 Ulm
END:VEVENT
BEGIN:VEVENT
DTSTAMP:20260421T102330
DTSTART;TZID=Europe/Berlin:20260216T183000
DTEND;TZID=Europe/Berlin:20260216T200000
UID:25-2091-20260216T183000@INLINGUA SPRACHCENTER ULM
SUMMARY:Aurich - Deutsch B1 (25-2091) 
LOCATION:inlingua Ulm Raum 1, Bahnhofstr. 17, 89073 Ulm
END:VEVENT
BEGIN:VEVENT
DTSTAMP:20260421T102330
DTSTART;TZID=Europe/Berlin:20260218T183000
DTEND;TZID=Europe/Berlin:20260218T200000
UID:25-2091-20260218T183000@INLINGUA SPRACHCENTER ULM
SUMMARY:Aurich - Deutsch B1 (25-2091) 
LOCATION:inlingua Ulm Raum 1, Bahnhofstr. 17, 89073 Ulm
END:VEVENT
BEGIN:VEVENT
DTSTAMP:20260421T102330
DTSTART;TZID=Europe/Berlin:20260223T183000
DTEND;TZID=Europe/Berlin:20260223T200000
UID:25-2091-20260223T183000@INLINGUA SPRACHCENTER ULM
SUMMARY:Aurich - Deutsch B1 (25-2091) 
LOCATION:inlingua Ulm Raum 1, Bahnhofstr. 17, 89073 Ulm
END:VEVENT
BEGIN:VEVENT
DTSTAMP:20260421T102330
DTSTART;TZID=Europe/Berlin:20260225T183000
DTEND;TZID=Europe/Berlin:20260225T200000
UID:25-2091-20260225T183000@INLINGUA SPRACHCENTER ULM
SUMMARY:Aurich - Deutsch B1 (25-2091) 
LOCATION:inlingua Ulm Raum 1, Bahnhofstr. 17, 89073 Ulm
END:VEVENT
BEGIN:VEVENT
DTSTAMP:20260421T102330
DTSTART;TZID=Europe/Berlin:20260302T183000
DTEND;TZID=Europe/Berlin:20260302T200000
UID:25-2091-20260302T183000@INLINGUA SPRACHCENTER ULM
SUMMARY:Aurich - Deutsch B1 (25-2091) 
LOCATION:inlingua Ulm Raum 1, Bahnhofstr. 17, 89073 Ulm
END:VEVENT
BEGIN:VEVENT
DTSTAMP:20260421T102330
DTSTART;TZID=Europe/Berlin:20260304T183000
DTEND;TZID=Europe/Berlin:20260304T200000
UID:25-2091-20260304T183000@INLINGUA SPRACHCENTER ULM
SUMMARY:Aurich - Deutsch B1 (25-2091) 
LOCATION:inlingua Ulm Raum 1, Bahnhofstr. 17, 89073 Ulm
END:VEVENT
BEGIN:VEVENT
DTSTAMP:20260421T102330
DTSTART;TZID=Europe/Berlin:20260309T183000
DTEND;TZID=Europe/Berlin:20260309T200000
UID:25-2091-20260309T183000@INLINGUA SPRACHCENTER ULM
SUMMARY:Aurich - Deutsch B1 (25-2091) 
LOCATION:inlingua Ulm Raum 1, Bahnhofstr. 17, 89073 Ulm
END:VEVENT
BEGIN:VEVENT
DTSTAMP:20260421T102330
DTSTART;TZID=Europe/Berlin:20260311T183000
DTEND;TZID=Europe/Berlin:20260311T200000
UID:25-2091-20260311T183000@INLINGUA SPRACHCENTER ULM
SUMMARY:Aurich - Deutsch B1 (25-2091) 
LOCATION:inlingua Ulm Raum 1, Bahnhofstr. 17, 89073 Ulm
END:VEVENT
BEGIN:VEVENT
DTSTAMP:20260421T102330
DTSTART;TZID=Europe/Berlin:20260316T183000
DTEND;TZID=Europe/Berlin:20260316T200000
UID:25-2091-20260316T183000@INLINGUA SPRACHCENTER ULM
SUMMARY:Aurich - Deutsch B1 (25-2091) 
LOCATION:inlingua Ulm Raum 1, Bahnhofstr. 17, 89073 Ulm
END:VEVENT
BEGIN:VEVENT
DTSTAMP:20260421T102330
DTSTART;TZID=Europe/Berlin:20260318T183000
DTEND;TZID=Europe/Berlin:20260318T200000
UID:25-2091-20260318T183000@INLINGUA SPRACHCENTER ULM
SUMMARY:Aurich - Deutsch B1 (25-2091) 
LOCATION:inlingua Ulm Raum 1, Bahnhofstr. 17, 89073 Ulm
END:VEVENT
BEGIN:VEVENT
DTSTAMP:20260421T102330
DTSTART;TZID=Europe/Berlin:20260323T183000
DTEND;TZID=Europe/Berlin:20260323T200000
UID:25-2091-20260323T183000@INLINGUA SPRACHCENTER ULM
SUMMARY:Aurich - Deutsch B1 (25-2091) 
LOCATION:inlingua Ulm Raum 1, Bahnhofstr. 17, 89073 Ulm
END:VEVENT
BEGIN:VEVENT
DTSTAMP:20260421T102330
DTSTART;TZID=Europe/Berlin:20260325T183000
DTEND;TZID=Europe/Berlin:20260325T200000
UID:25-2091-20260325T183000@INLINGUA SPRACHCENTER ULM
SUMMARY:Aurich - Deutsch B1 (25-2091) 
LOCATION:inlingua Ulm Raum 1, Bahnhofstr. 17, 89073 Ulm
END:VEVENT
BEGIN:VEVENT
DTSTAMP:20260421T102330
DTSTART;TZID=Europe/Berlin:20260330T183000
DTEND;TZID=Europe/Berlin:20260330T200000
UID:25-2091-20260330T183000@INLINGUA SPRACHCENTER ULM
SUMMARY:Aurich - Deutsch B1 (25-2091) 
LOCATION:inlingua Ulm Raum 1, Bahnhofstr. 17, 89073 Ulm
END:VEVENT
BEGIN:VEVENT
DTSTAMP:20260421T102330
DTSTART;TZID=Europe/Berlin:20260401T183000
DTEND;TZID=Europe/Berlin:20260401T200000
UID:25-2091-20260401T183000@INLINGUA SPRACHCENTER ULM
SUMMARY:Aurich - Deutsch B1 (25-2091) 
LOCATION:inlingua Ulm Raum 1, Bahnhofstr. 17, 89073 Ulm
END:VEVENT
BEGIN:VEVENT
DTSTAMP:20260421T102330
DTSTART;TZID=Europe/Berlin:20260408T183000
DTEND;TZID=Europe/Berlin:20260408T200000
UID:25-2091-20260408T183000@INLINGUA SPRACHCENTER ULM
SUMMARY:Aurich - Deutsch B1 (25-2091) 
LOCATION:inlingua Ulm Raum 1, Bahnhofstr. 17, 89073 Ulm
END:VEVENT
BEGIN:VEVENT
DTSTAMP:20260421T102330
DTSTART;TZID=Europe/Berlin:20260413T183000
DTEND;TZID=Europe/Berlin:20260413T200000
UID:25-2091-20260413T183000@INLINGUA SPRACHCENTER ULM
SUMMARY:Aurich - Deutsch B1 (25-2091) 
LOCATION:inlingua Ulm Raum 1, Bahnhofstr. 17, 89073 Ulm
END:VEVENT
BEGIN:VEVENT
DTSTAMP:20260421T102330
DTSTART;TZID=Europe/Berlin:20260415T183000
DTEND;TZID=Europe/Berlin:20260415T200000
UID:25-2091-20260415T183000@INLINGUA SPRACHCENTER ULM
SUMMARY:Aurich - Deutsch B1 (25-2091) 
LOCATION:inlingua Ulm Raum 1, Bahnhofstr. 17, 89073 Ulm
END:VEVENT
BEGIN:VEVENT
DTSTAMP:20260421T102330
DTSTART;TZID=Europe/Berlin:20260420T183000
DTEND;TZID=Europe/Berlin:20260420T200000
UID:25-2091-20260420T183000@INLINGUA SPRACHCENTER ULM
SUMMARY:Aurich - Deutsch B1 (25-2091) 
LOCATION:inlingua Ulm Raum 1, Bahnhofstr. 17, 89073 Ulm
END:VEVENT
BEGIN:VEVENT
DTSTAMP:20260421T102330
DTSTART;TZID=Europe/Berlin:20260422T183000
DTEND;TZID=Europe/Berlin:20260422T200000
UID:25-2091-20260422T183000@INLINGUA SPRACHCENTER ULM
SUMMARY:Aurich - Deutsch B1 (25-2091) 
LOCATION:inlingua Ulm Raum 1, Bahnhofstr. 17, 89073 Ulm
END:VEVENT
BEGIN:VEVENT
DTSTAMP:20260421T102330
DTSTART;TZID=Europe/Berlin:20260427T183000
DTEND;TZID=Europe/Berlin:20260427T200000
UID:25-2091-20260427T183000@INLINGUA SPRACHCENTER ULM
SUMMARY:Aurich - Deutsch B1 (25-2091) 
LOCATION:inlingua Ulm Raum 1, Bahnhofstr. 17, 89073 Ulm
END:VEVENT
BEGIN:VEVENT
DTSTAMP:20260421T102330
DTSTART;TZID=Europe/Berlin:20260429T183000
DTEND;TZID=Europe/Berlin:20260429T200000
UID:25-2091-20260429T183000@INLINGUA SPRACHCENTER ULM
SUMMARY:Aurich - Deutsch B1 (25-2091) 
LOCATION:inlingua Ulm Raum 1, Bahnhofstr. 17, 89073 Ulm
END:VEVENT
BEGIN:VEVENT
DTSTAMP:20260421T102330
DTSTART;TZID=Europe/Berlin:20260504T183000
DTEND;TZID=Europe/Berlin:20260504T200000
UID:25-2091-20260504T183000@INLINGUA SPRACHCENTER ULM
SUMMARY:Aurich - Deutsch B1 (25-2091) 
LOCATION:inlingua Ulm Raum 1, Bahnhofstr. 17, 89073 Ulm
END:VEVENT
BEGIN:VEVENT
DTSTAMP:20260421T102330
DTSTART;TZID=Europe/Berlin:20260506T183000
DTEND;TZID=Europe/Berlin:20260506T200000
UID:25-2091-20260506T183000@INLINGUA SPRACHCENTER ULM
SUMMARY:Aurich - Deutsch B1 (25-2091) 
LOCATION:inlingua Ulm Raum 1, Bahnhofstr. 17, 89073 Ulm
END:VEVENT
BEGIN:VEVENT
DTSTAMP:20260421T102330
DTSTART;TZID=Europe/Berlin:20260511T183000
DTEND;TZID=Europe/Berlin:20260511T200000
UID:25-2091-20260511T183000@INLINGUA SPRACHCENTER ULM
SUMMARY:Aurich - Deutsch B1 (25-2091) 
LOCATION:inlingua Ulm Raum 1, Bahnhofstr. 17, 89073 Ulm
END:VEVENT
BEGIN:VEVENT
DTSTAMP:20260421T102330
DTSTART;TZID=Europe/Berlin:20260513T183000
DTEND;TZID=Europe/Berlin:20260513T200000
UID:25-2091-20260513T183000@INLINGUA SPRACHCENTER ULM
SUMMARY:Aurich - Deutsch B1 (25-2091) 
LOCATION:inlingua Ulm Raum 1, Bahnhofstr. 17, 89073 Ulm
END:VEVENT
BEGIN:VEVENT
DTSTAMP:20260421T102330
DTSTART;TZID=Europe/Berlin:20260518T183000
DTEND;TZID=Europe/Berlin:20260518T200000
UID:25-2091-20260518T183000@INLINGUA SPRACHCENTER ULM
SUMMARY:Aurich - Deutsch B1 (25-2091) 
LOCATION:inlingua Ulm Raum 1, Bahnhofstr. 17, 89073 Ulm
END:VEVENT
BEGIN:VEVENT
DTSTAMP:20260421T102330
DTSTART;TZID=Europe/Berlin:20260520T183000
DTEND;TZID=Europe/Berlin:20260520T200000
UID:25-2091-20260520T183000@INLINGUA SPRACHCENTER ULM
SUMMARY:Aurich - Deutsch B1 (25-2091) 
LOCATION:inlingua Ulm Raum 1, Bahnhofstr. 17, 89073 Ulm
END:VEVENT
BEGIN:VEVENT
DTSTAMP:20260421T102330
DTSTART;TZID=Europe/Berlin:20260527T183000
DTEND;TZID=Europe/Berlin:20260527T200000
UID:25-2091-20260527T183000@INLINGUA SPRACHCENTER ULM
SUMMARY:Aurich - Deutsch B1 (25-2091) 
LOCATION:inlingua Ulm Raum 1, Bahnhofstr. 17, 89073 Ulm
END:VEVENT
BEGIN:VEVENT
DTSTAMP:20260421T102330
DTSTART;TZID=Europe/Berlin:20260601T183000
DTEND;TZID=Europe/Berlin:20260601T200000
UID:25-2091-20260601T183000@INLINGUA SPRACHCENTER ULM
SUMMARY:Aurich - Deutsch B1 (25-2091) 
LOCATION:inlingua Ulm Raum 1, Bahnhofstr. 17, 89073 Ulm
END:VEVENT
BEGIN:VEVENT
DTSTAMP:20260421T102330
DTSTART;TZID=Europe/Berlin:20260603T183000
DTEND;TZID=Europe/Berlin:20260603T200000
UID:25-2091-20260603T183000@INLINGUA SPRACHCENTER ULM
SUMMARY:Aurich - Deutsch B1 (25-2091) 
LOCATION:inlingua Ulm Raum 1, Bahnhofstr. 17, 89073 Ulm
END:VEVENT
BEGIN:VEVENT
DTSTAMP:20260421T102330
DTSTART;TZID=Europe/Berlin:20260608T183000
DTEND;TZID=Europe/Berlin:20260608T200000
UID:25-2091-20260608T183000@INLINGUA SPRACHCENTER ULM
SUMMARY:Aurich - Deutsch B1 (25-2091) 
LOCATION:inlingua Ulm Raum 1, Bahnhofstr. 17, 89073 Ulm
END:VEVENT
BEGIN:VEVENT
DTSTAMP:20260421T102330
DTSTART;TZID=Europe/Berlin:20260610T183000
DTEND;TZID=Europe/Berlin:20260610T200000
UID:25-2091-20260610T183000@INLINGUA SPRACHCENTER ULM
SUMMARY:Aurich - Deutsch B1 (25-2091) 
LOCATION:inlingua Ulm Raum 1, Bahnhofstr. 17, 89073 Ulm
END:VEVENT
BEGIN:VEVENT
DTSTAMP:20260421T102330
DTSTART;TZID=Europe/Berlin:20260615T183000
DTEND;TZID=Europe/Berlin:20260615T200000
UID:25-2091-20260615T183000@INLINGUA SPRACHCENTER ULM
SUMMARY:Aurich - Deutsch B1 (25-2091) 
LOCATION:inlingua Ulm Raum 1, Bahnhofstr. 17, 89073 Ulm
END:VEVENT
BEGIN:VEVENT
DTSTAMP:20260421T102330
DTSTART;TZID=Europe/Berlin:20260617T183000
DTEND;TZID=Europe/Berlin:20260617T200000
UID:25-2091-20260617T183000@INLINGUA SPRACHCENTER ULM
SUMMARY:Aurich - Deutsch B1 (25-2091) 
LOCATION:inlingua Ulm Raum 1, Bahnhofstr. 17, 89073 Ulm
END:VEVENT
BEGIN:VEVENT
DTSTAMP:20260421T102330
DTSTART;TZID=Europe/Berlin:20260622T183000
DTEND;TZID=Europe/Berlin:20260622T200000
UID:25-2091-20260622T183000@INLINGUA SPRACHCENTER ULM
SUMMARY:Aurich - Deutsch B1 (25-2091) 
LOCATION:inlingua Ulm Raum 1, Bahnhofstr. 17, 89073 Ulm
END:VEVENT
BEGIN:VEVENT
DTSTAMP:20260421T102330
DTSTART;TZID=Europe/Berlin:20260624T183000
DTEND;TZID=Europe/Berlin:20260624T200000
UID:25-2091-20260624T183000@INLINGUA SPRACHCENTER ULM
SUMMARY:Aurich - Deutsch B1 (25-2091) 
LOCATION:inlingua Ulm Raum 1, Bahnhofstr. 17, 89073 Ulm
END:VEVENT
BEGIN:VEVENT
DTSTAMP:20260421T102330
DTSTART;TZID=Europe/Berlin:20260629T183000
DTEND;TZID=Europe/Berlin:20260629T200000
UID:25-2091-20260629T183000@INLINGUA SPRACHCENTER ULM
SUMMARY:Aurich - Deutsch B1 (25-2091) 
LOCATION:inlingua Ulm Raum 1, Bahnhofstr. 17, 89073 Ulm
END:VEVENT
BEGIN:VEVENT
DTSTAMP:20260421T102330
DTSTART;TZID=Europe/Berlin:20260701T183000
DTEND;TZID=Europe/Berlin:20260701T200000
UID:25-2091-20260701T183000@INLINGUA SPRACHCENTER ULM
SUMMARY:Aurich - Deutsch B1 (25-2091) 
LOCATION:inlingua Ulm Raum 1, Bahnhofstr. 17, 89073 Ulm
END:VEVENT
BEGIN:VEVENT
DTSTAMP:20260421T102330
DTSTART;TZID=Europe/Berlin:20260706T183000
DTEND;TZID=Europe/Berlin:20260706T200000
UID:25-2091-20260706T183000@INLINGUA SPRACHCENTER ULM
SUMMARY:Aurich - Deutsch B1 (25-2091) 
LOCATION:inlingua Ulm Raum 1, Bahnhofstr. 17, 89073 Ulm
END:VEVENT
BEGIN:VEVENT
DTSTAMP:20260421T102330
DTSTART;TZID=Europe/Berlin:20260708T183000
DTEND;TZID=Europe/Berlin:20260708T200000
UID:25-2091-20260708T183000@INLINGUA SPRACHCENTER ULM
SUMMARY:Aurich - Deutsch B1 (25-2091) 
LOCATION:inlingua Ulm Raum 1, Bahnhofstr. 17, 89073 Ulm
END:VEVENT
BEGIN:VEVENT
DTSTAMP:20260421T102330
DTSTART;TZID=Europe/Berlin:20260713T183000
DTEND;TZID=Europe/Berlin:20260713T200000
UID:25-2091-20260713T183000@INLINGUA SPRACHCENTER ULM
SUMMARY:Aurich - Deutsch B1 (25-2091) 
LOCATION:inlingua Ulm Raum 1, Bahnhofstr. 17, 89073 Ulm
END:VEVENT
BEGIN:VEVENT
DTSTAMP:20260421T102330
DTSTART;TZID=Europe/Berlin:20260715T183000
DTEND;TZID=Europe/Berlin:20260715T200000
UID:25-2091-20260715T183000@INLINGUA SPRACHCENTER ULM
SUMMARY:Aurich - Deutsch B1 (25-2091) 
LOCATION:inlingua Ulm Raum 1, Bahnhofstr. 17, 89073 Ulm
END:VEVENT
BEGIN:VEVENT
DTSTAMP:20260421T102330
DTSTART;TZID=Europe/Berlin:20260720T183000
DTEND;TZID=Europe/Berlin:20260720T200000
UID:25-2091-20260720T183000@INLINGUA SPRACHCENTER ULM
SUMMARY:Aurich - Deutsch B1 (25-2091) 
LOCATION:inlingua Ulm Raum 1, Bahnhofstr. 17, 89073 Ulm
END:VEVENT
BEGIN:VEVENT
DTSTAMP:20260421T102330
DTSTART;TZID=Europe/Berlin:20260722T183000
DTEND;TZID=Europe/Berlin:20260722T200000
UID:25-2091-20260722T183000@INLINGUA SPRACHCENTER ULM
SUMMARY:Aurich - Deutsch B1 (25-2091) 
LOCATION:inlingua Ulm Raum 1, Bahnhofstr. 17, 89073 Ulm
END:VEVENT
BEGIN:VEVENT
DTSTAMP:20260421T102330
DTSTART;TZID=Europe/Berlin:20260727T183000
DTEND;TZID=Europe/Berlin:20260727T200000
UID:25-2091-20260727T183000@INLINGUA SPRACHCENTER ULM
SUMMARY:Aurich - Deutsch B1 (25-2091) 
LOCATION:inlingua Ulm Raum 1, Bahnhofstr. 17, 89073 Ulm
END:VEVENT
BEGIN:VEVENT
DTSTAMP:20260421T102330
DTSTART;TZID=Europe/Berlin:20260729T183000
DTEND;TZID=Europe/Berlin:20260729T200000
UID:25-2091-20260729T183000@INLINGUA SPRACHCENTER ULM
SUMMARY:Aurich - Deutsch B1 (25-2091) 
LOCATION:inlingua Ulm Raum 1, Bahnhofstr. 17, 89073 Ulm
END:VEVENT
BEGIN:VEVENT
DTSTAMP:20260421T102330
DTSTART;TZID=Europe/Berlin:20260803T183000
DTEND;TZID=Europe/Berlin:20260803T200000
UID:25-2091-20260803T183000@INLINGUA SPRACHCENTER ULM
SUMMARY:Aurich - Deutsch B1 (25-2091) 
LOCATION:inlingua Ulm Raum 1, Bahnhofstr. 17, 89073 Ulm
END:VEVENT
BEGIN:VEVENT
DTSTAMP:20260421T102330
DTSTART;TZID=Europe/Berlin:20260805T183000
DTEND;TZID=Europe/Berlin:20260805T200000
UID:25-2091-20260805T183000@INLINGUA SPRACHCENTER ULM
SUMMARY:Aurich - Deutsch B1 (25-2091) 
LOCATION:inlingua Ulm Raum 1, Bahnhofstr. 17, 89073 Ulm
END:VEVENT
BEGIN:VEVENT
DTSTAMP:20260421T102330
DTSTART;TZID=Europe/Berlin:20260810T183000
DTEND;TZID=Europe/Berlin:20260810T200000
UID:25-2091-20260810T183000@INLINGUA SPRACHCENTER ULM
SUMMARY:Aurich - Deutsch B1 (25-2091) 
LOCATION:inlingua Ulm Raum 1, Bahnhofstr. 17, 89073 Ulm
END:VEVENT
BEGIN:VEVENT
DTSTAMP:20260421T102330
DTSTART;TZID=Europe/Berlin:20260812T183000
DTEND;TZID=Europe/Berlin:20260812T200000
UID:25-2091-20260812T183000@INLINGUA SPRACHCENTER ULM
SUMMARY:Aurich - Deutsch B1 (25-2091) 
LOCATION:inlingua Ulm Raum 1, Bahnhofstr. 17, 89073 Ulm
END:VEVENT
BEGIN:VEVENT
DTSTAMP:20260421T102330
DTSTART;TZID=Europe/Berlin:20260817T183000
DTEND;TZID=Europe/Berlin:20260817T200000
UID:25-2091-20260817T183000@INLINGUA SPRACHCENTER ULM
SUMMARY:Aurich - Deutsch B1 (25-2091) 
LOCATION:inlingua Ulm Raum 1, Bahnhofstr. 17, 89073 Ulm
END:VEVENT
BEGIN:VEVENT
DTSTAMP:20260421T102330
DTSTART;TZID=Europe/Berlin:20260819T183000
DTEND;TZID=Europe/Berlin:20260819T200000
UID:25-2091-20260819T183000@INLINGUA SPRACHCENTER ULM
SUMMARY:Aurich - Deutsch B1 (25-2091) 
LOCATION:inlingua Ulm Raum 1, Bahnhofstr. 17, 89073 Ulm
END:VEVENT
BEGIN:VEVENT
DTSTAMP:20260421T102330
DTSTART;TZID=Europe/Berlin:20260824T183000
DTEND;TZID=Europe/Berlin:20260824T200000
UID:25-2091-20260824T183000@INLINGUA SPRACHCENTER ULM
SUMMARY:Aurich - Deutsch B1 (25-2091) 
LOCATION:inlingua Ulm Raum 1, Bahnhofstr. 17, 89073 Ulm
END:VEVENT
BEGIN:VEVENT
DTSTAMP:20260421T102330
DTSTART;TZID=Europe/Berlin:20260826T183000
DTEND;TZID=Europe/Berlin:20260826T200000
UID:25-2091-20260826T183000@INLINGUA SPRACHCENTER ULM
SUMMARY:Aurich - Deutsch B1 (25-2091) 
LOCATION:inlingua Ulm Raum 1, Bahnhofstr. 17, 89073 Ulm
END:VEVENT
BEGIN:VEVENT
DTSTAMP:20260421T102330
DTSTART;TZID=Europe/Berlin:20260831T183000
DTEND;TZID=Europe/Berlin:20260831T200000
UID:25-2091-20260831T183000@INLINGUA SPRACHCENTER ULM
SUMMARY:Aurich - Deutsch B1 (25-2091) 
LOCATION:inlingua Ulm Raum 1, Bahnhofstr. 17, 89073 Ulm
END:VEVENT
BEGIN:VEVENT
DTSTAMP:20260421T102330
DTSTART;TZID=Europe/Berlin:20260902T183000
DTEND;TZID=Europe/Berlin:20260902T200000
UID:25-2091-20260902T183000@INLINGUA SPRACHCENTER ULM
SUMMARY:Aurich - Deutsch B1 (25-2091) 
LOCATION:inlingua Ulm Raum 1, Bahnhofstr. 17, 89073 Ulm
END:VEVENT
BEGIN:VEVENT
DTSTAMP:20260421T102330
DTSTART;TZID=Europe/Berlin:20260907T183000
DTEND;TZID=Europe/Berlin:20260907T200000
UID:25-2091-20260907T183000@INLINGUA SPRACHCENTER ULM
SUMMARY:Aurich - Deutsch B1 (25-2091) 
LOCATION:inlingua Ulm Raum 1, Bahnhofstr. 17, 89073 Ulm
END:VEVENT
BEGIN:VEVENT
DTSTAMP:20260421T102330
DTSTART;TZID=Europe/Berlin:20260909T183000
DTEND;TZID=Europe/Berlin:20260909T200000
UID:25-2091-20260909T183000@INLINGUA SPRACHCENTER ULM
SUMMARY:Aurich - Deutsch B1 (25-2091) 
LOCATION:inlingua Ulm Raum 1, Bahnhofstr. 17, 89073 Ulm
END:VEVENT
BEGIN:VEVENT
DTSTAMP:20260421T102330
DTSTART;TZID=Europe/Berlin:20260914T183000
DTEND;TZID=Europe/Berlin:20260914T200000
UID:25-2091-20260914T183000@INLINGUA SPRACHCENTER ULM
SUMMARY:Aurich - Deutsch B1 (25-2091) 
LOCATION:inlingua Ulm Raum 1, Bahnhofstr. 17, 89073 Ulm
END:VEVENT
BEGIN:VEVENT
DTSTAMP:20260421T102330
DTSTART;TZID=Europe/Berlin:20260916T183000
DTEND;TZID=Europe/Berlin:20260916T200000
UID:25-2091-20260916T183000@INLINGUA SPRACHCENTER ULM
SUMMARY:Aurich - Deutsch B1 (25-2091) 
LOCATION:inlingua Ulm Raum 1, Bahnhofstr. 17, 89073 Ulm
END:VEVENT
BEGIN:VEVENT
DTSTAMP:20260421T102330
DTSTART;TZID=Europe/Berlin:20260921T183000
DTEND;TZID=Europe/Berlin:20260921T200000
UID:25-2091-20260921T183000@INLINGUA SPRACHCENTER ULM
SUMMARY:Aurich - Deutsch B1 (25-2091) 
LOCATION:inlingua Ulm Raum 1, Bahnhofstr. 17, 89073 Ulm
END:VEVENT
BEGIN:VEVENT
DTSTAMP:20260421T102330
DTSTART;TZID=Europe/Berlin:20260923T183000
DTEND;TZID=Europe/Berlin:20260923T200000
UID:25-2091-20260923T183000@INLINGUA SPRACHCENTER ULM
SUMMARY:Aurich - Deutsch B1 (25-2091) 
LOCATION:inlingua Ulm Raum 1, Bahnhofstr. 17, 89073 Ulm
END:VEVENT
BEGIN:VEVENT
DTSTAMP:20260421T102330
DTSTART;TZID=Europe/Berlin:20260928T183000
DTEND;TZID=Europe/Berlin:20260928T200000
UID:25-2091-20260928T183000@INLINGUA SPRACHCENTER ULM
SUMMARY:Aurich - Deutsch B1 (25-2091) 
LOCATION:inlingua Ulm Raum 1, Bahnhofstr. 17, 89073 Ulm
END:VEVENT
BEGIN:VEVENT
DTSTAMP:20260421T102330
DTSTART;TZID=Europe/Berlin:20260930T183000
DTEND;TZID=Europe/Berlin:20260930T200000
UID:25-2091-20260930T183000@INLINGUA SPRACHCENTER ULM
SUMMARY:Aurich - Deutsch B1 (25-2091) 
LOCATION:inlingua Ulm Raum 1, Bahnhofstr. 17, 89073 Ulm
END:VEVENT
BEGIN:VEVENT
DTSTAMP:20260421T102330
DTSTART;TZID=Europe/Berlin:20261005T183000
DTEND;TZID=Europe/Berlin:20261005T200000
UID:25-2091-20261005T183000@INLINGUA SPRACHCENTER ULM
SUMMARY:Aurich - Deutsch B1 (25-2091) 
LOCATION:inlingua Ulm Raum 1, Bahnhofstr. 17, 89073 Ulm
END:VEVENT
BEGIN:VEVENT
DTSTAMP:20260421T102330
DTSTART;TZID=Europe/Berlin:20261007T183000
DTEND;TZID=Europe/Berlin:20261007T200000
UID:25-2091-20261007T183000@INLINGUA SPRACHCENTER ULM
SUMMARY:Aurich - Deutsch B1 (25-2091) 
LOCATION:inlingua Ulm Raum 1, Bahnhofstr. 17, 89073 Ulm
END:VEVENT
BEGIN:VEVENT
DTSTAMP:20260421T102330
DTSTART;TZID=Europe/Berlin:20261012T183000
DTEND;TZID=Europe/Berlin:20261012T200000
UID:25-2091-20261012T183000@INLINGUA SPRACHCENTER ULM
SUMMARY:Aurich - Deutsch B1 (25-2091) 
LOCATION:inlingua Ulm Raum 1, Bahnhofstr. 17, 89073 Ulm
END:VEVENT
BEGIN:VEVENT
DTSTAMP:20260421T102330
DTSTART;TZID=Europe/Berlin:20261014T183000
DTEND;TZID=Europe/Berlin:20261014T200000
UID:25-2091-20261014T183000@INLINGUA SPRACHCENTER ULM
SUMMARY:Aurich - Deutsch B1 (25-2091) 
LOCATION:inlingua Ulm Raum 1, Bahnhofstr. 17, 89073 Ulm
END:VEVENT
BEGIN:VEVENT
DTSTAMP:20260421T102330
DTSTART;TZID=Europe/Berlin:20261019T183000
DTEND;TZID=Europe/Berlin:20261019T200000
UID:25-2091-20261019T183000@INLINGUA SPRACHCENTER ULM
SUMMARY:Aurich - Deutsch B1 (25-2091) 
LOCATION:inlingua Ulm Raum 1, Bahnhofstr. 17, 89073 Ulm
END:VEVENT
BEGIN:VEVENT
DTSTAMP:20260421T102330
DTSTART;TZID=Europe/Berlin:20261021T183000
DTEND;TZID=Europe/Berlin:20261021T200000
UID:25-2091-20261021T183000@INLINGUA SPRACHCENTER ULM
SUMMARY:Aurich - Deutsch B1 (25-2091) 
LOCATION:inlingua Ulm Raum 1, Bahnhofstr. 17, 89073 Ulm
END:VEVENT
BEGIN:VEVENT
DTSTAMP:20260421T102330
DTSTART;TZID=Europe/Berlin:20261026T183000
DTEND;TZID=Europe/Berlin:20261026T200000
UID:25-2091-20261026T183000@INLINGUA SPRACHCENTER ULM
SUMMARY:Aurich - Deutsch B1 (25-2091) 
LOCATION:inlingua Ulm Raum 1, Bahnhofstr. 17, 89073 Ulm
END:VEVENT
BEGIN:VEVENT
DTSTAMP:20260421T102330
DTSTART;TZID=Europe/Berlin:20261028T183000
DTEND;TZID=Europe/Berlin:20261028T200000
UID:25-2091-20261028T183000@INLINGUA SPRACHCENTER ULM
SUMMARY:Aurich - Deutsch B1 (25-2091) 
LOCATION:inlingua Ulm Raum 1, Bahnhofstr. 17, 89073 Ulm
END:VEVENT
BEGIN:VEVENT
DTSTAMP:20260421T102330
DTSTART;TZID=Europe/Berlin:20261102T183000
DTEND;TZID=Europe/Berlin:20261102T200000
UID:25-2091-20261102T183000@INLINGUA SPRACHCENTER ULM
SUMMARY:Aurich - Deutsch B1 (25-2091) 
LOCATION:inlingua Ulm Raum 1, Bahnhofstr. 17, 89073 Ulm
END:VEVENT
BEGIN:VEVENT
DTSTAMP:20260421T102330
DTSTART;TZID=Europe/Berlin:20261104T183000
DTEND;TZID=Europe/Berlin:20261104T200000
UID:25-2091-20261104T183000@INLINGUA SPRACHCENTER ULM
SUMMARY:Aurich - Deutsch B1 (25-2091) 
LOCATION:inlingua Ulm Raum 1, Bahnhofstr. 17, 89073 Ulm
END:VEVENT
BEGIN:VEVENT
DTSTAMP:20260421T102330
DTSTART;TZID=Europe/Berlin:20261109T183000
DTEND;TZID=Europe/Berlin:20261109T200000
UID:25-2091-20261109T183000@INLINGUA SPRACHCENTER ULM
SUMMARY:Aurich - Deutsch B1 (25-2091) 
LOCATION:inlingua Ulm Raum 1, Bahnhofstr. 17, 89073 Ulm
END:VEVENT
BEGIN:VEVENT
DTSTAMP:20260421T102330
DTSTART;TZID=Europe/Berlin:20261111T183000
DTEND;TZID=Europe/Berlin:20261111T200000
UID:25-2091-20261111T183000@INLINGUA SPRACHCENTER ULM
SUMMARY:Aurich - Deutsch B1 (25-2091) 
LOCATION:inlingua Ulm Raum 1, Bahnhofstr. 17, 89073 Ulm
END:VEVENT
BEGIN:VEVENT
DTSTAMP:20260421T102330
DTSTART;TZID=Europe/Berlin:20261116T183000
DTEND;TZID=Europe/Berlin:20261116T200000
UID:25-2091-20261116T183000@INLINGUA SPRACHCENTER ULM
SUMMARY:Aurich - Deutsch B1 (25-2091) 
LOCATION:inlingua Ulm Raum 1, Bahnhofstr. 17, 89073 Ulm
END:VEVENT
BEGIN:VEVENT
DTSTAMP:20260421T102330
DTSTART;TZID=Europe/Berlin:20261118T183000
DTEND;TZID=Europe/Berlin:20261118T200000
UID:25-2091-20261118T183000@INLINGUA SPRACHCENTER ULM
SUMMARY:Aurich - Deutsch B1 (25-2091) 
LOCATION:inlingua Ulm Raum 1, Bahnhofstr. 17, 89073 Ulm
END:VEVENT
BEGIN:VEVENT
DTSTAMP:20260421T102330
DTSTART;TZID=Europe/Berlin:20261123T183000
DTEND;TZID=Europe/Berlin:20261123T200000
UID:25-2091-20261123T183000@INLINGUA SPRACHCENTER ULM
SUMMARY:Aurich - Deutsch B1 (25-2091) 
LOCATION:inlingua Ulm Raum 1, Bahnhofstr. 17, 89073 Ulm
END:VEVENT
BEGIN:VEVENT
DTSTAMP:20260421T102330
DTSTART;TZID=Europe/Berlin:20261125T183000
DTEND;TZID=Europe/Berlin:20261125T200000
UID:25-2091-20261125T183000@INLINGUA SPRACHCENTER ULM
SUMMARY:Aurich - Deutsch B1 (25-2091) 
LOCATION:inlingua Ulm Raum 1, Bahnhofstr. 17, 89073 Ulm
END:VEVENT
BEGIN:VEVENT
DTSTAMP:20260421T102330
DTSTART;TZID=Europe/Berlin:20261130T183000
DTEND;TZID=Europe/Berlin:20261130T200000
UID:25-2091-20261130T183000@INLINGUA SPRACHCENTER ULM
SUMMARY:Aurich - Deutsch B1 (25-2091) 
LOCATION:inlingua Ulm Raum 1, Bahnhofstr. 17, 89073 Ulm
END:VEVENT
BEGIN:VEVENT
DTSTAMP:20260421T102330
DTSTART;TZID=Europe/Berlin:20261202T183000
DTEND;TZID=Europe/Berlin:20261202T200000
UID:25-2091-20261202T183000@INLINGUA SPRACHCENTER ULM
SUMMARY:Aurich - Deutsch B1 (25-2091) 
LOCATION:inlingua Ulm Raum 1, Bahnhofstr. 17, 89073 Ulm
END:VEVENT
BEGIN:VEVENT
DTSTAMP:20260421T102330
DTSTART;TZID=Europe/Berlin:20261207T183000
DTEND;TZID=Europe/Berlin:20261207T200000
UID:25-2091-20261207T183000@INLINGUA SPRACHCENTER ULM
SUMMARY:Aurich - Deutsch B1 (25-2091) 
LOCATION:inlingua Ulm Raum 1, Bahnhofstr. 17, 89073 Ulm
END:VEVENT
BEGIN:VEVENT
DTSTAMP:20260421T102330
DTSTART;TZID=Europe/Berlin:20261209T183000
DTEND;TZID=Europe/Berlin:20261209T200000
UID:25-2091-20261209T183000@INLINGUA SPRACHCENTER ULM
SUMMARY:Aurich - Deutsch B1 (25-2091) 
LOCATION:inlingua Ulm Raum 1, Bahnhofstr. 17, 89073 Ulm
END:VEVENT
BEGIN:VEVENT
DTSTAMP:20260421T102330
DTSTART;TZID=Europe/Berlin:20261214T183000
DTEND;TZID=Europe/Berlin:20261214T200000
UID:25-2091-20261214T183000@INLINGUA SPRACHCENTER ULM
SUMMARY:Aurich - Deutsch B1 (25-2091) 
LOCATION:inlingua Ulm Raum 1, Bahnhofstr. 17, 89073 Ulm
END:VEVENT
END:VCALENDAR